BEGIN:VCALENDAR
PRODID:-//github.com/ical-org/ical.net//NONSGML ical.net 5.2.1//EN
VERSION:2.0
BEGIN:VEVENT
DESCRIPTION:Statsminister Jonas Gahr Støre deltek gjennom dagen på marker
 ingar av den internasjonale arbeidardagen i Sulitjelma.<p>Pressekontaktar 
 er statssekretær Kristoffer Thoner\, telefon 97 68 14 80\, e-post <a href
 ="mailto:kth@smk.dep.no">kth@smk.dep.no</a> og kommunikasjonsrådgivar Sti
 ne Grimsrud\, telefon 97 19 42 50\, e-post <a href="mailto:stine.grimsrud@
 smk.dep.no">stine.grimsrud@smk.dep.no</a>.</p>
DTSTAMP:20260425T164513Z
DTSTART;VALUE=DATE:20260501
LOCATION:Sulitjelma
SEQUENCE:0
SUMMARY:Statsministeren besøkjer Sulitjelma på 1. mai
UID:4e24d818-550e-4f2e-a0db-fd93847efac7
X-ALT-DESC;FMTTYPE=text/html:Statsminister Jonas Gahr Støre deltek gjennom
  dagen på markeringar av den internasjonale arbeidardagen i Sulitjelma.<p
 >Pressekontaktar er statssekretær Kristoffer Thoner\, telefon 97 68 14 80
 \, e-post <a href="mailto:kth@smk.dep.no">kth@smk.dep.no</a> og kommunikas
 jonsrådgivar Stine Grimsrud\, telefon 97 19 42 50\, e-post <a href="mailt
 o:stine.grimsrud@smk.dep.no">stine.grimsrud@smk.dep.no</a>.</p>
END:VEVENT
BEGIN:VTIMEZONE
TZID:Europe/Oslo
X-LIC-LOCATION:Europe/Oslo
END:VTIMEZONE
END:VCALENDAR
