BEGIN:VCALENDAR
PRODID:-//github.com/ical-org/ical.net//NONSGML ical.net 5.2.1//EN
VERSION:2.0
BEGIN:VEVENT
DESCRIPTION:Klima- og miljøminister Andreas Bjelland Eriksen besøker fisk
 ere for å markere oppstart av miljøtiltak i Oslofjorden.<p>Les mer om ti
 ltakene:</p>\n<ul style="list-style-type: link-list\;">\n<li data-nav="lin
 klist-link"><a href="https://www.regjeringen.no/no/aktuelt/oslofjorden/id3
 156066/">Rekordstor tildeling for å redde Oslofjorden - regjeringen.no</a
 ></li>\n</ul>\n<p>Pressekontakt for besøket er politisk rådgiver Sofie R
 osten Løvdahl\, tlf. nr. <a class="tellink" href="tel:90280868">902 80 86
 8</a>.</p>
DTEND:20260420T120000Z
DTSTAMP:20260419T131947Z
DTSTART:20260420T110000Z
LOCATION: Tenvikveien 373 Nøtterøy
SEQUENCE:0
SUMMARY:Klima- og miljøministeren besøker Nøtterøy
UID:2cda1635-5ec0-4d38-aa3f-3983d31c74b3
X-ALT-DESC;FMTTYPE=text/html:Klima- og miljøminister Andreas Bjelland Erik
 sen besøker fiskere for å markere oppstart av miljøtiltak i Oslofjorden
 .<p>Les mer om tiltakene:</p>\n<ul style="list-style-type: link-list\;">\n
 <li data-nav="linklist-link"><a href="https://www.regjeringen.no/no/aktuel
 t/oslofjorden/id3156066/">Rekordstor tildeling for å redde Oslofjorden - 
 regjeringen.no</a></li>\n</ul>\n<p>Pressekontakt for besøket er politisk 
 rådgiver Sofie Rosten Løvdahl\, tlf. nr. <a class="tellink" href="tel:90
 280868">902 80 868</a>.</p>
END:VEVENT
BEGIN:VTIMEZONE
TZID:Europe/Oslo
X-LIC-LOCATION:Europe/Oslo
END:VTIMEZONE
END:VCALENDAR
