BEGIN:VCALENDAR
PRODID:-//github.com/ical-org/ical.net//NONSGML ical.net 5.2.1//EN
VERSION:2.0
BEGIN:VEVENT
DESCRIPTION:Klima- og miljøminister Andreas Bjelland Eriksen besøker Nors
 k institutt for bioøkonomi.<p>Tema for besøket er hvordan kunnskap\, dat
 a og systematisk overvåking kan bidra direkte til klima- og naturpolitikk
 en.</p>\n<p>Pressekontakt for besøket er kommunikasjonsrådgiver Ragnhild
  Melbye\, tlf.nr. <a class="tellink" href="tel:45125156">451 25 156</a>. 
 </p>
DTEND:20260424T120000Z
DTSTAMP:20260424T001355Z
DTSTART:20260424T110000Z
SEQUENCE:0
SUMMARY:Klima- og miljøministeren besøker Norsk institutt for bioøkonomi
UID:352afe62-1c45-459c-9700-7651a1d441a2
X-ALT-DESC;FMTTYPE=text/html:Klima- og miljøminister Andreas Bjelland Erik
 sen besøker Norsk institutt for bioøkonomi.<p>Tema for besøket er hvord
 an kunnskap\, data og systematisk overvåking kan bidra direkte til klima-
  og naturpolitikken.</p>\n<p>Pressekontakt for besøket er kommunikasjonsr
 ådgiver Ragnhild Melbye\, tlf.nr. <a class="tellink" href="tel:45125156">
 451 25 156</a>. </p>
END:VEVENT
BEGIN:VTIMEZONE
TZID:Europe/Oslo
X-LIC-LOCATION:Europe/Oslo
END:VTIMEZONE
END:VCALENDAR
