BEGIN:VCALENDAR
PRODID:-//github.com/ical-org/ical.net//NONSGML ical.net 5.2.1//EN
VERSION:2.0
BEGIN:VEVENT
DESCRIPTION:Klima- og miljøminister Andreas Bjelland Eriksen deltar på la
 nseringsseminar om samspillet mellom juss\, politikk og kunnskap i arealfo
 rvaltningen.<p>Seminaret arrangeres av Holth &amp\; Winge og Sparebankstif
 telsen DNB. Statsråden deltar i en debatt med Marius Langballe Dalin (MDG
 ) og Helge André Njåstad (FrP).</p>
DTEND:20260414T130000Z
DTSTAMP:20260423T041351Z
DTSTART:20260414T120000Z
LOCATION:Sentralen Øvre Slottsgate 3 Oslo
SEQUENCE:0
SUMMARY:Klima- og miljøministeren deltar på lanseringsseminar om samspill
 et mellom juss\, politikk og kunnskap i arealforvaltningen
UID:4bb35c32-39ba-446a-a28f-6a196cb1d298
X-ALT-DESC;FMTTYPE=text/html:Klima- og miljøminister Andreas Bjelland Erik
 sen deltar på lanseringsseminar om samspillet mellom juss\, politikk og k
 unnskap i arealforvaltningen.<p>Seminaret arrangeres av Holth &amp\; Winge
  og Sparebankstiftelsen DNB. Statsråden deltar i en debatt med Marius Lan
 gballe Dalin (MDG) og Helge André Njåstad (FrP).</p>
END:VEVENT
BEGIN:VTIMEZONE
TZID:Europe/Oslo
X-LIC-LOCATION:Europe/Oslo
END:VTIMEZONE
END:VCALENDAR
