BEGIN:VCALENDAR
PRODID:-//github.com/ical-org/ical.net//NONSGML ical.net 5.2.1//EN
VERSION:2.0
BEGIN:VEVENT
DESCRIPTION:Klima- og miljøminister Andreas Bjelland Eriksen deltar på Pe
 tersbergdialogen.<p>Pressekontakt for reisen er kommunikasjonssjef Martine
  Røiseland\, tlf. nr. <a class="tellink" href="tel:97055024">970 55 024</
 a>.</p>
DTEND;VALUE=DATE:20260421
DTSTAMP:20260419T155220Z
DTSTART;VALUE=DATE:20260421
LOCATION:Berlin
SEQUENCE:0
SUMMARY:Klima- og miljøministeren deltar på Petersbergdialogen
UID:dece8169-ca36-43c1-b039-669a17f048d9
X-ALT-DESC;FMTTYPE=text/html:Klima- og miljøminister Andreas Bjelland Erik
 sen deltar på Petersbergdialogen.<p>Pressekontakt for reisen er kommunika
 sjonssjef Martine Røiseland\, tlf. nr. <a class="tellink" href="tel:97055
 024">970 55 024</a>.</p>
END:VEVENT
BEGIN:VEVENT
DESCRIPTION:Klima- og miljøminister Andreas Bjelland Eriksen deltar på Pe
 tersbergdialogen.<p>Pressekontakt for reisen er kommunikasjonssjef Martine
  Røiseland\, tlf. nr. <a class="tellink" href="tel:97055024">970 55 024</
 a>.</p>
DTEND;VALUE=DATE:20260422
DTSTAMP:20260419T155220Z
DTSTART;VALUE=DATE:20260422
LOCATION:Berlin
SEQUENCE:0
SUMMARY:Klima- og miljøministeren deltar på Petersbergdialogen
UID:37e7da09-8b70-4c99-8237-5ada5693eb98
X-ALT-DESC;FMTTYPE=text/html:Klima- og miljøminister Andreas Bjelland Erik
 sen deltar på Petersbergdialogen.<p>Pressekontakt for reisen er kommunika
 sjonssjef Martine Røiseland\, tlf. nr. <a class="tellink" href="tel:97055
 024">970 55 024</a>.</p>
END:VEVENT
BEGIN:VTIMEZONE
TZID:Europe/Oslo
X-LIC-LOCATION:Europe/Oslo
END:VTIMEZONE
END:VCALENDAR
