BEGIN:VCALENDAR
PRODID:-//github.com/ical-org/ical.net//NONSGML ical.net 5.2.1//EN
VERSION:2.0
BEGIN:VEVENT
DESCRIPTION:Klima- og miljøminister Andreas Bjelland Eriksen deltar på DN
 Ts rapportlansering om utbyggingsplaner og konflikt med natur og friluftsl
 iv.<p>Under lanseringen vil statsråden gi sine kommentarer til rapporten.
 </p>
DTEND:20260414T080000Z
DTSTAMP:20260421T173633Z
DTSTART:20260414T070000Z
LOCATION:Kulturhuset Youngs gate 6 Oslo
SEQUENCE:0
SUMMARY:Klima- og miljøministeren deltar på rapportlansering i regi av DN
 T om utbyggingsplaner og konflikt med natur og friluftsliv
UID:3aa19ddb-9603-46a1-82b4-18e0116472e8
X-ALT-DESC;FMTTYPE=text/html:Klima- og miljøminister Andreas Bjelland Erik
 sen deltar på DNTs rapportlansering om utbyggingsplaner og konflikt med n
 atur og friluftsliv.<p>Under lanseringen vil statsråden gi sine kommentar
 er til rapporten.</p>
END:VEVENT
BEGIN:VTIMEZONE
TZID:Europe/Oslo
X-LIC-LOCATION:Europe/Oslo
END:VTIMEZONE
END:VCALENDAR
