BEGIN:VCALENDAR
PRODID:-//github.com/ical-org/ical.net//NONSGML ical.net 5.2.1//EN
VERSION:2.0
BEGIN:VEVENT
DESCRIPTION:Klima- og miljøminister Andreas Bjelland Eriksen deltek under 
 besøket til Armenias miljøminister Hambardzum Matevosyan. <p>Tema for be
 søket er mellom anna FNs naturtoppmøte i oktober\, som landet er vertska
 p for.</p>
DTEND:20260413T140000Z
DTSTAMP:20260423T202212Z
DTSTART:20260413T073000Z
LOCATION:Oslo
SEQUENCE:0
SUMMARY:Klima- og miljøministeren deltek når Armenias miljøminister bes
 økjer Noreg
UID:9c92f34d-301b-444e-9214-d4feba258b75
X-ALT-DESC;FMTTYPE=text/html:Klima- og miljøminister Andreas Bjelland Erik
 sen deltek under besøket til Armenias miljøminister Hambardzum Matevosya
 n. <p>Tema for besøket er mellom anna FNs naturtoppmøte i oktober\, som 
 landet er vertskap for.</p>
END:VEVENT
BEGIN:VTIMEZONE
TZID:Europe/Oslo
X-LIC-LOCATION:Europe/Oslo
END:VTIMEZONE
END:VCALENDAR
