BEGIN:VCALENDAR
PRODID:-//github.com/ical-org/ical.net//NONSGML ical.net 5.2.1//EN
VERSION:2.0
BEGIN:VEVENT
DESCRIPTION:Klima- og miljøminister Andreas Bjelland Eriksen er i Agder.<p
 ><strong>Program:</strong></p>\n<ul>\n<li>Ryddeaksjon med Søgne dykkarklu
 bb\, Hold Norge Rent og Skjærgårdstjenesten</li>\n<li>Besøkje Laudal kr
 aftverk </li>\n<li>Delta på årskonferansen til Fornybar Norge</li>\n</u
 l>\n<p>Pressekontakt for dagen er kommunikasjonsrådgivar Katinka Prestøy
 \, tlf.nr. <a class="tellink" href="tel:91153671">911 53 671</a>.</p>
DTEND;VALUE=DATE:20260416
DTSTAMP:20260421T130930Z
DTSTART;VALUE=DATE:20260416
SEQUENCE:0
SUMMARY:Klima- og miljøministeren er i Agder
UID:b9669e13-75a9-44bd-afc9-ed6da2186304
X-ALT-DESC;FMTTYPE=text/html:Klima- og miljøminister Andreas Bjelland Erik
 sen er i Agder.<p><strong>Program:</strong></p>\n<ul>\n<li>Ryddeaksjon med
  Søgne dykkarklubb\, Hold Norge Rent og Skjærgårdstjenesten</li>\n<li>B
 esøkje Laudal kraftverk </li>\n<li>Delta på årskonferansen til Fornyba
 r Norge</li>\n</ul>\n<p>Pressekontakt for dagen er kommunikasjonsrådgivar
  Katinka Prestøy\, tlf.nr. <a class="tellink" href="tel:91153671">911 53 
 671</a>.</p>
END:VEVENT
BEGIN:VTIMEZONE
TZID:Europe/Oslo
X-LIC-LOCATION:Europe/Oslo
END:VTIMEZONE
END:VCALENDAR
