BEGIN:VCALENDAR
PRODID:-//github.com/ical-org/ical.net//NONSGML ical.net 5.2.1//EN
VERSION:2.0
BEGIN:VEVENT
DESCRIPTION:Klima- og miljøminister Andreas Bjelland Eriksen holder innleg
 g under Kjemikaliedagene.<p>Kjemikaliedagene er en årlig konferanse fra N
 orsk Industri for fagfolk innen kjemikalier\, reguleringer\, helse og milj
 ø.</p>
DTEND:20260428T133000Z
DTSTAMP:20260424T001452Z
DTSTART:20260428T130000Z
LOCATION:Thon Hotell Opera Dronning Eufemias gate 4 Oslo
SEQUENCE:0
SUMMARY:Klima- og miljøministeren holder innlegg under Kjemikaliedagene
UID:5132cb41-de24-4549-a4de-2622df41672e
X-ALT-DESC;FMTTYPE=text/html:Klima- og miljøminister Andreas Bjelland Erik
 sen holder innlegg under Kjemikaliedagene.<p>Kjemikaliedagene er en årlig
  konferanse fra Norsk Industri for fagfolk innen kjemikalier\, reguleringe
 r\, helse og miljø.</p>
END:VEVENT
BEGIN:VTIMEZONE
TZID:Europe/Oslo
X-LIC-LOCATION:Europe/Oslo
END:VTIMEZONE
END:VCALENDAR
