BEGIN:VCALENDAR
PRODID:-//github.com/ical-org/ical.net//NONSGML ical.net 5.2.1//EN
VERSION:2.0
BEGIN:VEVENT
DESCRIPTION:Statsråd Bjørnar Skjæran holder årets første konsultasjons
 møte med KS.
DTEND:20260306T124500Z
DTSTAMP:20260422T072917Z
DTSTART:20260306T111500Z
LOCATION:Statsrådens kontor\, R5 Oslo
SEQUENCE:0
SUMMARY:Kommunal- og distriktsministeren deltar på konsultasjonsmøte med 
 KS
UID:d9b64df4-1cf5-4267-bf69-c7d90b105967
X-ALT-DESC;FMTTYPE=text/html:Statsråd Bjørnar Skjæran holder årets før
 ste konsultasjonsmøte med KS.
END:VEVENT
BEGIN:VTIMEZONE
TZID:Europe/Oslo
X-LIC-LOCATION:Europe/Oslo
END:VTIMEZONE
END:VCALENDAR
