BEGIN:VCALENDAR
PRODID:-//github.com/ical-org/ical.net//NONSGML ical.net 5.2.1//EN
VERSION:2.0
BEGIN:VEVENT
DESCRIPTION:
DTEND:20260416T140000Z
DTSTAMP:20260422T180109Z
DTSTART:20260416T123000Z
LOCATION:R5
SEQUENCE:0
SUMMARY:Kommunal- og distriktsministeren holder andre konsultasjonsmøte me
 d KS for 2026
UID:5255d825-8f13-437f-8b20-209dd73c2f6a
END:VEVENT
BEGIN:VTIMEZONE
TZID:Europe/Oslo
X-LIC-LOCATION:Europe/Oslo
END:VTIMEZONE
END:VCALENDAR
