BEGIN:VCALENDAR
PRODID:-//github.com/ical-org/ical.net//NONSGML ical.net 5.2.1//EN
VERSION:2.0
BEGIN:VEVENT
DESCRIPTION:
DTSTAMP:20260423T155347Z
DTSTART:20260129T091500Z
LOCATION:Akersgata 55
SEQUENCE:0
SUMMARY:Kultur- og likestillingsministeren besøker Aftenposten Junior
UID:b9ae7568-a641-4e69-9c0c-9c80e92b0d35
END:VEVENT
BEGIN:VTIMEZONE
TZID:Europe/Oslo
X-LIC-LOCATION:Europe/Oslo
END:VTIMEZONE
END:VCALENDAR
