BEGIN:VCALENDAR
PRODID:-//github.com/ical-org/ical.net//NONSGML ical.net 5.2.1//EN
VERSION:2.0
BEGIN:VEVENT
DESCRIPTION:
DTSTAMP:20260423T095512Z
DTSTART:20260224T143000Z
LOCATION:Skien
SEQUENCE:0
SUMMARY:Kultur- og likestillingsministeren besøker Henrik Ibsen museum Ven
 støp i Skien
UID:fa71a03c-278a-4dce-a73f-923da99fe260
END:VEVENT
BEGIN:VTIMEZONE
TZID:Europe/Oslo
X-LIC-LOCATION:Europe/Oslo
END:VTIMEZONE
END:VCALENDAR
