BEGIN:VCALENDAR
PRODID:-//github.com/ical-org/ical.net//NONSGML ical.net 5.2.1//EN
VERSION:2.0
BEGIN:VEVENT
DESCRIPTION:
DTSTAMP:20260425T221523Z
DTSTART:20240405T110000Z
LOCATION:Kulturrådets lokaler i Oslo
SEQUENCE:0
SUMMARY:Kultur- og likestillingsministeren besøker Kulturrådet.
UID:5b22a0d1-966c-489c-8249-3e921f1cce60
END:VEVENT
BEGIN:VTIMEZONE
TZID:Europe/Oslo
X-LIC-LOCATION:Europe/Oslo
END:VTIMEZONE
END:VCALENDAR
