BEGIN:VCALENDAR
PRODID:-//github.com/ical-org/ical.net//NONSGML ical.net 5.2.1//EN
VERSION:2.0
BEGIN:VEVENT
DESCRIPTION:
DTSTAMP:20260421T143854Z
DTSTART:20260422T093000Z
LOCATION:Stortinget
SEQUENCE:0
SUMMARY:Kultur- og likestillingsministeren er i Stortinget for ordinær sp
 ørretime
UID:34bc806e-d2e1-420b-912a-65a27524cca2
END:VEVENT
BEGIN:VTIMEZONE
TZID:Europe/Oslo
X-LIC-LOCATION:Europe/Oslo
END:VTIMEZONE
END:VCALENDAR
