BEGIN:VCALENDAR
PRODID:-//github.com/ical-org/ical.net//NONSGML ical.net 5.2.1//EN
VERSION:2.0
BEGIN:VEVENT
DESCRIPTION:
DTSTAMP:20260421T131701Z
DTSTART:20260423T140000Z
LOCATION:Slottet
SEQUENCE:0
SUMMARY:Kultur- og likestillingsministeren er til stede under Fosseforedrag
 et og utdelingen av Fosseprisen for oversettere
UID:bbd48480-85b1-4ae9-a8d4-a9782a7282b5
END:VEVENT
BEGIN:VTIMEZONE
TZID:Europe/Oslo
X-LIC-LOCATION:Europe/Oslo
END:VTIMEZONE
END:VCALENDAR
