BEGIN:VCALENDAR
PRODID:-//github.com/ical-org/ical.net//NONSGML ical.net 5.2.1//EN
VERSION:2.0
BEGIN:VEVENT
DESCRIPTION:<h2>Kultur- og likestillingsministerens program under OL 2026: 
  </h2>\n<p><strong>Tirsdag 17. februar:</strong><br />Kl. 14:30: Skøyter
 \, lagtempo<br />Sted: Milano</p>\n<p><strong>Onsdag 18. februar:<br /></s
 trong>Kl. 11:45: Langrenn\, lagsprint kombinert<br />Sted: Val di Fiemme</
 p>\n<p><strong>Torsdag 19. februar:<br /></strong>Kl. 10: Hopp stor bakke\
 , teamsprint kombinert<br />Sted: Val di Fiemme</p>\n<p>Kl. 14: Langrenn\,
  2x 7\,5 km\, teamsprint kombinert<br />Sted: Val di Fiemme</p>\n<p><stron
 g>Fredag 20. februar: <br /></strong>Kl. 14:15: Skiskyting\, 15 km felless
 tart<br />Sted: Anterselva</p>\n<p><strong>Lørdag 21. februar:<br /></str
 ong>Kl. 11: Langrenn\, 50 km klassisk<br />Sted: Val di Fiemme</p>\n<p><st
 rong>Søndag 22. februar:</strong><br />Kl. 10: Langrenn\, 50 km klassisk<
 br />Sted: Val di Fiemme</p>
DTEND;VALUE=DATE:20260217
DTSTAMP:20260423T154448Z
DTSTART;VALUE=DATE:20260217
LOCATION:Val di Fiemme
SEQUENCE:0
SUMMARY:Kultur- og likestillingsministeren er til stede under OL i Milano/C
 ortina
UID:500bab15-ccfb-4090-accd-ff1a3f4dfa04
X-ALT-DESC;FMTTYPE=text/html:<h2>Kultur- og likestillingsministerens progra
 m under OL 2026:  </h2>\n<p><strong>Tirsdag 17. februar:</strong><br />Kl
 . 14:30: Skøyter\, lagtempo<br />Sted: Milano</p>\n<p><strong>Onsdag 18. 
 februar:<br /></strong>Kl. 11:45: Langrenn\, lagsprint kombinert<br />Sted
 : Val di Fiemme</p>\n<p><strong>Torsdag 19. februar:<br /></strong>Kl. 10:
  Hopp stor bakke\, teamsprint kombinert<br />Sted: Val di Fiemme</p>\n<p>K
 l. 14: Langrenn\, 2x 7\,5 km\, teamsprint kombinert<br />Sted: Val di Fiem
 me</p>\n<p><strong>Fredag 20. februar: <br /></strong>Kl. 14:15: Skiskytin
 g\, 15 km fellesstart<br />Sted: Anterselva</p>\n<p><strong>Lørdag 21. fe
 bruar:<br /></strong>Kl. 11: Langrenn\, 50 km klassisk<br />Sted: Val di F
 iemme</p>\n<p><strong>Søndag 22. februar:</strong><br />Kl. 10: Langrenn\
 , 50 km klassisk<br />Sted: Val di Fiemme</p>
END:VEVENT
BEGIN:VEVENT
DESCRIPTION:<h2>Kultur- og likestillingsministerens program under OL 2026: 
  </h2>\n<p><strong>Tirsdag 17. februar:</strong><br />Kl. 14:30: Skøyter
 \, lagtempo<br />Sted: Milano</p>\n<p><strong>Onsdag 18. februar:<br /></s
 trong>Kl. 11:45: Langrenn\, lagsprint kombinert<br />Sted: Val di Fiemme</
 p>\n<p><strong>Torsdag 19. februar:<br /></strong>Kl. 10: Hopp stor bakke\
 , teamsprint kombinert<br />Sted: Val di Fiemme</p>\n<p>Kl. 14: Langrenn\,
  2x 7\,5 km\, teamsprint kombinert<br />Sted: Val di Fiemme</p>\n<p><stron
 g>Fredag 20. februar: <br /></strong>Kl. 14:15: Skiskyting\, 15 km felless
 tart<br />Sted: Anterselva</p>\n<p><strong>Lørdag 21. februar:<br /></str
 ong>Kl. 11: Langrenn\, 50 km klassisk<br />Sted: Val di Fiemme</p>\n<p><st
 rong>Søndag 22. februar:</strong><br />Kl. 10: Langrenn\, 50 km klassisk<
 br />Sted: Val di Fiemme</p>
DTEND;VALUE=DATE:20260218
DTSTAMP:20260423T154448Z
DTSTART;VALUE=DATE:20260218
LOCATION:Val di Fiemme
SEQUENCE:0
SUMMARY:Kultur- og likestillingsministeren er til stede under OL i Milano/C
 ortina
UID:d77830bb-3116-4e83-946f-e87019e7cc70
X-ALT-DESC;FMTTYPE=text/html:<h2>Kultur- og likestillingsministerens progra
 m under OL 2026:  </h2>\n<p><strong>Tirsdag 17. februar:</strong><br />Kl
 . 14:30: Skøyter\, lagtempo<br />Sted: Milano</p>\n<p><strong>Onsdag 18. 
 februar:<br /></strong>Kl. 11:45: Langrenn\, lagsprint kombinert<br />Sted
 : Val di Fiemme</p>\n<p><strong>Torsdag 19. februar:<br /></strong>Kl. 10:
  Hopp stor bakke\, teamsprint kombinert<br />Sted: Val di Fiemme</p>\n<p>K
 l. 14: Langrenn\, 2x 7\,5 km\, teamsprint kombinert<br />Sted: Val di Fiem
 me</p>\n<p><strong>Fredag 20. februar: <br /></strong>Kl. 14:15: Skiskytin
 g\, 15 km fellesstart<br />Sted: Anterselva</p>\n<p><strong>Lørdag 21. fe
 bruar:<br /></strong>Kl. 11: Langrenn\, 50 km klassisk<br />Sted: Val di F
 iemme</p>\n<p><strong>Søndag 22. februar:</strong><br />Kl. 10: Langrenn\
 , 50 km klassisk<br />Sted: Val di Fiemme</p>
END:VEVENT
BEGIN:VEVENT
DESCRIPTION:<h2>Kultur- og likestillingsministerens program under OL 2026: 
  </h2>\n<p><strong>Tirsdag 17. februar:</strong><br />Kl. 14:30: Skøyter
 \, lagtempo<br />Sted: Milano</p>\n<p><strong>Onsdag 18. februar:<br /></s
 trong>Kl. 11:45: Langrenn\, lagsprint kombinert<br />Sted: Val di Fiemme</
 p>\n<p><strong>Torsdag 19. februar:<br /></strong>Kl. 10: Hopp stor bakke\
 , teamsprint kombinert<br />Sted: Val di Fiemme</p>\n<p>Kl. 14: Langrenn\,
  2x 7\,5 km\, teamsprint kombinert<br />Sted: Val di Fiemme</p>\n<p><stron
 g>Fredag 20. februar: <br /></strong>Kl. 14:15: Skiskyting\, 15 km felless
 tart<br />Sted: Anterselva</p>\n<p><strong>Lørdag 21. februar:<br /></str
 ong>Kl. 11: Langrenn\, 50 km klassisk<br />Sted: Val di Fiemme</p>\n<p><st
 rong>Søndag 22. februar:</strong><br />Kl. 10: Langrenn\, 50 km klassisk<
 br />Sted: Val di Fiemme</p>
DTEND;VALUE=DATE:20260219
DTSTAMP:20260423T154448Z
DTSTART;VALUE=DATE:20260219
LOCATION:Val di Fiemme
SEQUENCE:0
SUMMARY:Kultur- og likestillingsministeren er til stede under OL i Milano/C
 ortina
UID:a1852f4c-3059-425f-b3f4-dd6760a6f204
X-ALT-DESC;FMTTYPE=text/html:<h2>Kultur- og likestillingsministerens progra
 m under OL 2026:  </h2>\n<p><strong>Tirsdag 17. februar:</strong><br />Kl
 . 14:30: Skøyter\, lagtempo<br />Sted: Milano</p>\n<p><strong>Onsdag 18. 
 februar:<br /></strong>Kl. 11:45: Langrenn\, lagsprint kombinert<br />Sted
 : Val di Fiemme</p>\n<p><strong>Torsdag 19. februar:<br /></strong>Kl. 10:
  Hopp stor bakke\, teamsprint kombinert<br />Sted: Val di Fiemme</p>\n<p>K
 l. 14: Langrenn\, 2x 7\,5 km\, teamsprint kombinert<br />Sted: Val di Fiem
 me</p>\n<p><strong>Fredag 20. februar: <br /></strong>Kl. 14:15: Skiskytin
 g\, 15 km fellesstart<br />Sted: Anterselva</p>\n<p><strong>Lørdag 21. fe
 bruar:<br /></strong>Kl. 11: Langrenn\, 50 km klassisk<br />Sted: Val di F
 iemme</p>\n<p><strong>Søndag 22. februar:</strong><br />Kl. 10: Langrenn\
 , 50 km klassisk<br />Sted: Val di Fiemme</p>
END:VEVENT
BEGIN:VEVENT
DESCRIPTION:<h2>Kultur- og likestillingsministerens program under OL 2026: 
  </h2>\n<p><strong>Tirsdag 17. februar:</strong><br />Kl. 14:30: Skøyter
 \, lagtempo<br />Sted: Milano</p>\n<p><strong>Onsdag 18. februar:<br /></s
 trong>Kl. 11:45: Langrenn\, lagsprint kombinert<br />Sted: Val di Fiemme</
 p>\n<p><strong>Torsdag 19. februar:<br /></strong>Kl. 10: Hopp stor bakke\
 , teamsprint kombinert<br />Sted: Val di Fiemme</p>\n<p>Kl. 14: Langrenn\,
  2x 7\,5 km\, teamsprint kombinert<br />Sted: Val di Fiemme</p>\n<p><stron
 g>Fredag 20. februar: <br /></strong>Kl. 14:15: Skiskyting\, 15 km felless
 tart<br />Sted: Anterselva</p>\n<p><strong>Lørdag 21. februar:<br /></str
 ong>Kl. 11: Langrenn\, 50 km klassisk<br />Sted: Val di Fiemme</p>\n<p><st
 rong>Søndag 22. februar:</strong><br />Kl. 10: Langrenn\, 50 km klassisk<
 br />Sted: Val di Fiemme</p>
DTEND;VALUE=DATE:20260220
DTSTAMP:20260423T154448Z
DTSTART;VALUE=DATE:20260220
LOCATION:Val di Fiemme
SEQUENCE:0
SUMMARY:Kultur- og likestillingsministeren er til stede under OL i Milano/C
 ortina
UID:3429409b-686b-4a7f-8316-70d442fad103
X-ALT-DESC;FMTTYPE=text/html:<h2>Kultur- og likestillingsministerens progra
 m under OL 2026:  </h2>\n<p><strong>Tirsdag 17. februar:</strong><br />Kl
 . 14:30: Skøyter\, lagtempo<br />Sted: Milano</p>\n<p><strong>Onsdag 18. 
 februar:<br /></strong>Kl. 11:45: Langrenn\, lagsprint kombinert<br />Sted
 : Val di Fiemme</p>\n<p><strong>Torsdag 19. februar:<br /></strong>Kl. 10:
  Hopp stor bakke\, teamsprint kombinert<br />Sted: Val di Fiemme</p>\n<p>K
 l. 14: Langrenn\, 2x 7\,5 km\, teamsprint kombinert<br />Sted: Val di Fiem
 me</p>\n<p><strong>Fredag 20. februar: <br /></strong>Kl. 14:15: Skiskytin
 g\, 15 km fellesstart<br />Sted: Anterselva</p>\n<p><strong>Lørdag 21. fe
 bruar:<br /></strong>Kl. 11: Langrenn\, 50 km klassisk<br />Sted: Val di F
 iemme</p>\n<p><strong>Søndag 22. februar:</strong><br />Kl. 10: Langrenn\
 , 50 km klassisk<br />Sted: Val di Fiemme</p>
END:VEVENT
BEGIN:VEVENT
DESCRIPTION:<h2>Kultur- og likestillingsministerens program under OL 2026: 
  </h2>\n<p><strong>Tirsdag 17. februar:</strong><br />Kl. 14:30: Skøyter
 \, lagtempo<br />Sted: Milano</p>\n<p><strong>Onsdag 18. februar:<br /></s
 trong>Kl. 11:45: Langrenn\, lagsprint kombinert<br />Sted: Val di Fiemme</
 p>\n<p><strong>Torsdag 19. februar:<br /></strong>Kl. 10: Hopp stor bakke\
 , teamsprint kombinert<br />Sted: Val di Fiemme</p>\n<p>Kl. 14: Langrenn\,
  2x 7\,5 km\, teamsprint kombinert<br />Sted: Val di Fiemme</p>\n<p><stron
 g>Fredag 20. februar: <br /></strong>Kl. 14:15: Skiskyting\, 15 km felless
 tart<br />Sted: Anterselva</p>\n<p><strong>Lørdag 21. februar:<br /></str
 ong>Kl. 11: Langrenn\, 50 km klassisk<br />Sted: Val di Fiemme</p>\n<p><st
 rong>Søndag 22. februar:</strong><br />Kl. 10: Langrenn\, 50 km klassisk<
 br />Sted: Val di Fiemme</p>
DTEND;VALUE=DATE:20260221
DTSTAMP:20260423T154448Z
DTSTART;VALUE=DATE:20260221
LOCATION:Val di Fiemme
SEQUENCE:0
SUMMARY:Kultur- og likestillingsministeren er til stede under OL i Milano/C
 ortina
UID:ab8feeca-c102-4319-8e8d-6a606723b111
X-ALT-DESC;FMTTYPE=text/html:<h2>Kultur- og likestillingsministerens progra
 m under OL 2026:  </h2>\n<p><strong>Tirsdag 17. februar:</strong><br />Kl
 . 14:30: Skøyter\, lagtempo<br />Sted: Milano</p>\n<p><strong>Onsdag 18. 
 februar:<br /></strong>Kl. 11:45: Langrenn\, lagsprint kombinert<br />Sted
 : Val di Fiemme</p>\n<p><strong>Torsdag 19. februar:<br /></strong>Kl. 10:
  Hopp stor bakke\, teamsprint kombinert<br />Sted: Val di Fiemme</p>\n<p>K
 l. 14: Langrenn\, 2x 7\,5 km\, teamsprint kombinert<br />Sted: Val di Fiem
 me</p>\n<p><strong>Fredag 20. februar: <br /></strong>Kl. 14:15: Skiskytin
 g\, 15 km fellesstart<br />Sted: Anterselva</p>\n<p><strong>Lørdag 21. fe
 bruar:<br /></strong>Kl. 11: Langrenn\, 50 km klassisk<br />Sted: Val di F
 iemme</p>\n<p><strong>Søndag 22. februar:</strong><br />Kl. 10: Langrenn\
 , 50 km klassisk<br />Sted: Val di Fiemme</p>
END:VEVENT
BEGIN:VEVENT
DESCRIPTION:<h2>Kultur- og likestillingsministerens program under OL 2026: 
  </h2>\n<p><strong>Tirsdag 17. februar:</strong><br />Kl. 14:30: Skøyter
 \, lagtempo<br />Sted: Milano</p>\n<p><strong>Onsdag 18. februar:<br /></s
 trong>Kl. 11:45: Langrenn\, lagsprint kombinert<br />Sted: Val di Fiemme</
 p>\n<p><strong>Torsdag 19. februar:<br /></strong>Kl. 10: Hopp stor bakke\
 , teamsprint kombinert<br />Sted: Val di Fiemme</p>\n<p>Kl. 14: Langrenn\,
  2x 7\,5 km\, teamsprint kombinert<br />Sted: Val di Fiemme</p>\n<p><stron
 g>Fredag 20. februar: <br /></strong>Kl. 14:15: Skiskyting\, 15 km felless
 tart<br />Sted: Anterselva</p>\n<p><strong>Lørdag 21. februar:<br /></str
 ong>Kl. 11: Langrenn\, 50 km klassisk<br />Sted: Val di Fiemme</p>\n<p><st
 rong>Søndag 22. februar:</strong><br />Kl. 10: Langrenn\, 50 km klassisk<
 br />Sted: Val di Fiemme</p>
DTEND;VALUE=DATE:20260222
DTSTAMP:20260423T154448Z
DTSTART;VALUE=DATE:20260222
LOCATION:Val di Fiemme
SEQUENCE:0
SUMMARY:Kultur- og likestillingsministeren er til stede under OL i Milano/C
 ortina
UID:62cbe980-303d-4f66-a4f9-d5930d20253d
X-ALT-DESC;FMTTYPE=text/html:<h2>Kultur- og likestillingsministerens progra
 m under OL 2026:  </h2>\n<p><strong>Tirsdag 17. februar:</strong><br />Kl
 . 14:30: Skøyter\, lagtempo<br />Sted: Milano</p>\n<p><strong>Onsdag 18. 
 februar:<br /></strong>Kl. 11:45: Langrenn\, lagsprint kombinert<br />Sted
 : Val di Fiemme</p>\n<p><strong>Torsdag 19. februar:<br /></strong>Kl. 10:
  Hopp stor bakke\, teamsprint kombinert<br />Sted: Val di Fiemme</p>\n<p>K
 l. 14: Langrenn\, 2x 7\,5 km\, teamsprint kombinert<br />Sted: Val di Fiem
 me</p>\n<p><strong>Fredag 20. februar: <br /></strong>Kl. 14:15: Skiskytin
 g\, 15 km fellesstart<br />Sted: Anterselva</p>\n<p><strong>Lørdag 21. fe
 bruar:<br /></strong>Kl. 11: Langrenn\, 50 km klassisk<br />Sted: Val di F
 iemme</p>\n<p><strong>Søndag 22. februar:</strong><br />Kl. 10: Langrenn\
 , 50 km klassisk<br />Sted: Val di Fiemme</p>
END:VEVENT
BEGIN:VTIMEZONE
TZID:Europe/Oslo
X-LIC-LOCATION:Europe/Oslo
END:VTIMEZONE
END:VCALENDAR
