BEGIN:VCALENDAR
PRODID:-//github.com/ical-org/ical.net//NONSGML ical.net 5.2.1//EN
VERSION:2.0
BEGIN:VEVENT
DESCRIPTION:
DTSTAMP:20260421T160259Z
DTSTART:20260421T110000Z
LOCATION:Nederlands ambassade i Oslo
SEQUENCE:0
SUMMARY:Kultur- og likestillingsministeren er til stede ved lunsj i anledni
 ng utdelingen av Fosseprisen for oversettere
UID:a4a49c48-d8ea-4baa-9264-0a639f00b98f
END:VEVENT
BEGIN:VTIMEZONE
TZID:Europe/Oslo
X-LIC-LOCATION:Europe/Oslo
END:VTIMEZONE
END:VCALENDAR
