BEGIN:VCALENDAR
PRODID:-//github.com/ical-org/ical.net//NONSGML ical.net 5.2.1//EN
VERSION:2.0
BEGIN:VEVENT
DESCRIPTION:Næringsminister Cecilie Myrseth holder åpningsinnlegg.
DTEND:20250212T100000Z
DTSTAMP:20260419T132939Z
DTSTART:20250212T090000Z
SEQUENCE:0
SUMMARY:Næringsministeren deltar på Livsvitenskapskonferansen 2025
UID:3c616ca4-1b98-4119-b4f3-aaa4b4d6b344
X-ALT-DESC;FMTTYPE=text/html:Næringsminister Cecilie Myrseth holder åpnin
 gsinnlegg.
END:VEVENT
BEGIN:VTIMEZONE
TZID:Europe/Oslo
X-LIC-LOCATION:Europe/Oslo
END:VTIMEZONE
END:VCALENDAR
