BEGIN:VCALENDAR
PRODID:-//github.com/ical-org/ical.net//NONSGML ical.net 5.2.1//EN
VERSION:2.0
BEGIN:VEVENT
DESCRIPTION:
DTEND:20250512T130000Z
DTSTAMP:20260423T053442Z
DTSTART:20250512T120000Z
LOCATION:DOGA
SEQUENCE:0
SUMMARY:Næringsministeren møter motebransjen
UID:44876ddb-f02c-4e64-8a6f-a6d9b4899741
END:VEVENT
BEGIN:VTIMEZONE
TZID:Europe/Oslo
X-LIC-LOCATION:Europe/Oslo
END:VTIMEZONE
END:VCALENDAR
