BEGIN:VCALENDAR
PRODID:-//github.com/ical-org/ical.net//NONSGML ical.net 5.2.1//EN
VERSION:2.0
BEGIN:VEVENT
DESCRIPTION:<p>Se agenda på stortinget.no.</p>
DTEND:20260421T140000Z
DTSTAMP:20260419T155221Z
DTSTART:20260421T100000Z
LOCATION:Stortinget
SEQUENCE:0
SUMMARY:Næringsministeren på Stortinget
UID:fd643ace-3296-415c-9be3-a5c598c3efbd
X-ALT-DESC;FMTTYPE=text/html:<p>Se agenda på stortinget.no.</p>
END:VEVENT
BEGIN:VTIMEZONE
TZID:Europe/Oslo
X-LIC-LOCATION:Europe/Oslo
END:VTIMEZONE
END:VCALENDAR
