BEGIN:VCALENDAR
PRODID:-//github.com/ical-org/ical.net//NONSGML ical.net 5.2.1//EN
VERSION:2.0
BEGIN:VEVENT
DESCRIPTION:Næringsminister Cecilie Myrseth skal blant annet møte Tysklan
 ds næringsminister Katherina Reiche og minister for forskning\, teknologi
  og romfart Dorothee Bär.
DTEND;VALUE=DATE:20260113
DTSTAMP:20260425T035905Z
DTSTART;VALUE=DATE:20260113
LOCATION:Berlin
SEQUENCE:0
SUMMARY:Næringsministeren til Berlin
UID:077e6934-c307-4951-85cb-bbd61428ea69
X-ALT-DESC;FMTTYPE=text/html:Næringsminister Cecilie Myrseth skal blant an
 net møte Tysklands næringsminister Katherina Reiche og minister for fors
 kning\, teknologi og romfart Dorothee Bär.
END:VEVENT
BEGIN:VTIMEZONE
TZID:Europe/Oslo
X-LIC-LOCATION:Europe/Oslo
END:VTIMEZONE
END:VCALENDAR
