BEGIN:VCALENDAR
PRODID:-//github.com/ical-org/ical.net//NONSGML ical.net 5.2.1//EN
VERSION:2.0
BEGIN:VEVENT
DESCRIPTION:<p>Se presseinvitasjon: <a href="https://www.regjeringen.no/no/
 aktuelt/presseinvitasjon-naringsministeren-til-industrikonferansen-i-bodo/
 id3119763/">Presseinvitasjon: Næringsministeren til Industrikonferansen i
  Bodø - regjeringen.no</a></p>
DTEND:20250923T140000Z
DTSTAMP:20260422T154936Z
DTSTART:20250923T090000Z
LOCATION:Quality Hotel Ramsalt\, Bodø
SEQUENCE:0
SUMMARY:Næringsministeren til Industrikonferansen i Bodø
UID:53bfa0f9-337a-47f8-a47b-9e88de85a3fd
X-ALT-DESC;FMTTYPE=text/html:<p>Se presseinvitasjon: <a href="https://www.r
 egjeringen.no/no/aktuelt/presseinvitasjon-naringsministeren-til-industriko
 nferansen-i-bodo/id3119763/">Presseinvitasjon: Næringsministeren til Indu
 strikonferansen i Bodø - regjeringen.no</a></p>
END:VEVENT
BEGIN:VTIMEZONE
TZID:Europe/Oslo
X-LIC-LOCATION:Europe/Oslo
END:VTIMEZONE
END:VCALENDAR
