BEGIN:VCALENDAR
PRODID:-//github.com/ical-org/ical.net//NONSGML ical.net 5.2.1//EN
VERSION:2.0
BEGIN:VEVENT
DESCRIPTION:Arbeids- og inkluderingsminister Kjersti Stenseng deltek på op
 pstartsmøte mellom regjeringa og partane om nasjonal arbeidsmiljøstrateg
 i.
DTEND:20260413T133000Z
DTSTAMP:20260423T115427Z
DTSTART:20260413T123000Z
LOCATION:Arbeids- og inkluderingsdepartementet 0181 Akersgata 64 Oslo
SEQUENCE:0
SUMMARY:Arbeids- og inkluderingsministeren deltek på oppstartsmøte om nas
 jonal arbeidsmiljøstrategi
UID:eeac6ef0-5c14-4d36-a885-1ed91b4b4850
X-ALT-DESC;FMTTYPE=text/html:Arbeids- og inkluderingsminister Kjersti Stens
 eng deltek på oppstartsmøte mellom regjeringa og partane om nasjonal arb
 eidsmiljøstrategi.
END:VEVENT
BEGIN:VTIMEZONE
TZID:Europe/Oslo
X-LIC-LOCATION:Europe/Oslo
END:VTIMEZONE
END:VCALENDAR
