BEGIN:VCALENDAR
PRODID:-//github.com/ical-org/ical.net//NONSGML ical.net 5.2.1//EN
VERSION:2.0
BEGIN:VEVENT
DESCRIPTION:Den polske visestatsminister og forsvarsminister Władysław Ko
 siniak-Kamysz besøker Norge mandag 13.april. Forsvarsminister Tore O. San
 dvik er vert for besøket.<p>I forbindelse med besøket vil det bli en fel
 les statment fra de to forsvarsministrene på Akershus festning\, på pla
 ssen foran Forsvarsmuseet\, kl.15.45.</p>\n<p>Det åpnes ikke for enkeltin
 tervjuer under dette møtet.</p>\n<p>Kontaktperson for presse:<br />Asgeir
  S. Brekke\, mobil 900 28 061</p>
DTEND;VALUE=DATE:20260413
DTSTAMP:20260423T150349Z
DTSTART;VALUE=DATE:20260413
LOCATION:Oslo
SEQUENCE:0
SUMMARY:Polsk visestatsminister og forsvarsminister besøker Norge
UID:a8a78cee-4476-4f0d-a1ba-598a68941b86
X-ALT-DESC;FMTTYPE=text/html:Den polske visestatsminister og forsvarsminist
 er Władysław Kosiniak-Kamysz besøker Norge mandag 13.april. Forsvarsmin
 ister Tore O. Sandvik er vert for besøket.<p>I forbindelse med besøket v
 il det bli en felles statment fra de to forsvarsministrene på Akershus fe
 stning\, på plassen foran Forsvarsmuseet\, kl.15.45.</p>\n<p>Det åpnes 
 ikke for enkeltintervjuer under dette møtet.</p>\n<p>Kontaktperson for pr
 esse:<br />Asgeir S. Brekke\, mobil 900 28 061</p>
END:VEVENT
BEGIN:VTIMEZONE
TZID:Europe/Oslo
X-LIC-LOCATION:Europe/Oslo
END:VTIMEZONE
END:VCALENDAR
