BEGIN:VCALENDAR
PRODID:-//github.com/ical-org/ical.net//NONSGML ical.net 5.2.1//EN
VERSION:2.0
BEGIN:VEVENT
DESCRIPTION:Samferdselsministeren besøker Autopia Expo og sitter på med e
 n selvkjørende buss. 
DTEND:20260410T140000Z
DTSTAMP:20260421T223242Z
DTSTART:20260410T073000Z
SEQUENCE:0
SUMMARY:Samferdselsministeren besøker Stavanger
UID:2100372b-e42c-48a5-8acd-1e9867a52444
X-ALT-DESC;FMTTYPE=text/html:Samferdselsministeren besøker Autopia Expo og
  sitter på med en selvkjørende buss. 
END:VEVENT
BEGIN:VTIMEZONE
TZID:Europe/Oslo
X-LIC-LOCATION:Europe/Oslo
END:VTIMEZONE
END:VCALENDAR
