BEGIN:VCALENDAR
PRODID:-//github.com/ical-org/ical.net//NONSGML ical.net 5.2.1//EN
VERSION:2.0
BEGIN:VEVENT
DESCRIPTION:
DTSTAMP:20260421T085400Z
DTSTART:20240820T080000Z
SEQUENCE:0
SUMMARY:Samferdselsministeren besøker Trøndelag
UID:53e0c5e4-248e-4181-9a62-201e4cab8ae8
END:VEVENT
BEGIN:VTIMEZONE
TZID:Europe/Oslo
X-LIC-LOCATION:Europe/Oslo
END:VTIMEZONE
END:VCALENDAR
