BEGIN:VCALENDAR
PRODID:-//github.com/ical-org/ical.net//NONSGML ical.net 5.2.1//EN
VERSION:2.0
BEGIN:VEVENT
DESCRIPTION:Samferdselsministeren har torsdag 29. august kl. 13-14 møte me
 d Akershus fylkeskommune og kommunene Asker\, Bærum og Oslo om trafikksit
 uasjonen i Vestkorridoren etter den midlertidige stengningen av Ring 1. \n
 \nMøtet finner sted hos Samferdselsdepartementet i Akersgata 59. Samferds
 elsministeren er tilgjengelig for presse i etterkant av møtet. Presse som
  ønsker å intervjue Nygård må melde seg på til sdinfo@sd.dep.no innen
  torsdag kl. 10.
DTEND:20240829T120000Z
DTSTAMP:20260419T134746Z
DTSTART:20240829T110000Z
SEQUENCE:0
SUMMARY:Samferdselsministeren har møte om trafikksituasjonen etter stengni
 ngen av Ring 1
UID:0bd9acef-a3e0-430d-88b5-c6cca87acbd4
X-ALT-DESC;FMTTYPE=text/html:Samferdselsministeren har torsdag 29. august k
 l. 13-14 møte med Akershus fylkeskommune og kommunene Asker\, Bærum og O
 slo om trafikksituasjonen i Vestkorridoren etter den midlertidige stengnin
 gen av Ring 1. \n\nMøtet finner sted hos Samferdselsdepartementet i Akers
 gata 59. Samferdselsministeren er tilgjengelig for presse i etterkant av m
 øtet. Presse som ønsker å intervjue Nygård må melde seg på til sdinf
 o@sd.dep.no innen torsdag kl. 10.
END:VEVENT
BEGIN:VTIMEZONE
TZID:Europe/Oslo
X-LIC-LOCATION:Europe/Oslo
END:VTIMEZONE
END:VCALENDAR
