BEGIN:VCALENDAR
PRODID:-//github.com/ical-org/ical.net//NONSGML ical.net 5.2.1//EN
VERSION:2.0
BEGIN:VEVENT
DESCRIPTION:Tema for besøket er transportbehov i lys av industriveksten og
  befolkningsveksten i Kongsberg\, og utvikling av teknologi.<p>Se program 
 for dagen <a href="https://www.regjeringen.no/no/aktuelt/presseinvitasjon-
 samferdselsministeren-til-kongsberg-tysdag-14.-april/id3156038/">her</a>.<
 /p>
DTEND:20260414T133000Z
DTSTAMP:20260423T072659Z
DTSTART:20260414T090000Z
SEQUENCE:0
SUMMARY:Samferdselsministeren til Kongsberg
UID:eb67d771-6998-45b5-a050-ba57a38df52a
X-ALT-DESC;FMTTYPE=text/html:Tema for besøket er transportbehov i lys av i
 ndustriveksten og befolkningsveksten i Kongsberg\, og utvikling av teknolo
 gi.<p>Se program for dagen <a href="https://www.regjeringen.no/no/aktuelt/
 presseinvitasjon-samferdselsministeren-til-kongsberg-tysdag-14.-april/id31
 56038/">her</a>.</p>
END:VEVENT
BEGIN:VTIMEZONE
TZID:Europe/Oslo
X-LIC-LOCATION:Europe/Oslo
END:VTIMEZONE
END:VCALENDAR
