BEGIN:VCALENDAR
PRODID:-//github.com/ical-org/ical.net//NONSGML ical.net 5.2.1//EN
VERSION:2.0
BEGIN:VEVENT
DESCRIPTION:Statsminister Jonas Gahr Støre deltek på eit møte om industr
 ikoalisjonen First Movers Coalition arrangert av NHO\, saman med John Kerr
 y\, USA sin spesialutsending for klima\, og representantar frå norsk nær
 ingsliv.<p>Pressekontakt er kommunikasjonsrådgivar Andreas Bondevik\, tel
 efon 40 23 24 54\, e-post <a href="mailto:ab@smk.dep.no">ab@smk.dep.no</a>
 .</p>
DTSTAMP:20260420T000728Z
DTSTART:20240215T080000Z
SEQUENCE:0
SUMMARY:Statsminister deltek på eit møte om industrikoalisjonen First Mov
 ers Coalition
UID:a7809b0b-5b60-489a-9e10-6cfdae467aea
X-ALT-DESC;FMTTYPE=text/html:Statsminister Jonas Gahr Støre deltek på eit
  møte om industrikoalisjonen First Movers Coalition arrangert av NHO\, sa
 man med John Kerry\, USA sin spesialutsending for klima\, og representanta
 r frå norsk næringsliv.<p>Pressekontakt er kommunikasjonsrådgivar Andre
 as Bondevik\, telefon 40 23 24 54\, e-post <a href="mailto:ab@smk.dep.no">
 ab@smk.dep.no</a>.</p>
END:VEVENT
BEGIN:VTIMEZONE
TZID:Europe/Oslo
X-LIC-LOCATION:Europe/Oslo
END:VTIMEZONE
END:VCALENDAR
