BEGIN:VCALENDAR
PRODID:-//github.com/ical-org/ical.net//NONSGML ical.net 5.2.1//EN
VERSION:2.0
BEGIN:VEVENT
DESCRIPTION:Statsminister Jonas Gahr Støre deltek på sentralstyremøte i 
 Arbeidarpartiet.<p>Pressekontakt er statssekretær Kristoffer Thoner\, tel
 efon 97 68 14 80\, e-post <a href="mailto:kth@smk.dep.no">kth@smk.dep.no</
 a>.</p>
DTSTAMP:20260423T115427Z
DTSTART:20260413T120000Z
LOCATION:Youngstorget
SEQUENCE:0
SUMMARY:Statsministeren deltek på sentralstyremøte i Arbeidarpartiet
UID:cbb101e4-0e16-436c-b0e5-754eed5995ff
X-ALT-DESC;FMTTYPE=text/html:Statsminister Jonas Gahr Støre deltek på sen
 tralstyremøte i Arbeidarpartiet.<p>Pressekontakt er statssekretær Kristo
 ffer Thoner\, telefon 97 68 14 80\, e-post <a href="mailto:kth@smk.dep.no"
 >kth@smk.dep.no</a>.</p>
END:VEVENT
BEGIN:VTIMEZONE
TZID:Europe/Oslo
X-LIC-LOCATION:Europe/Oslo
END:VTIMEZONE
END:VCALENDAR
