BEGIN:VCALENDAR
PRODID:-//github.com/ical-org/ical.net//NONSGML ical.net 5.2.1//EN
VERSION:2.0
BEGIN:VEVENT
DESCRIPTION:Statsminister Jonas Gahr Støre innleiar til plenumsdebatt på 
 Nordisk råds årlege temasesjon\, som i 2026 går føre seg i Stortinget.
  Tema for innleiinga er korleis dei nordiske landa kan styrkje felles mots
 tandskraft og kriseberedskap.<p>Sjå fleire detaljar på <a href="https:/
 /www.norden.org/no/nordisk-rads-temasesjon-2026">nettsida til Nordisk råd
 </a>.</p>\n<p>Pressekontakt er kommunikasjonsrådgivar Ragnhild H. Simenst
 ad\, telefon 91 71 74 59\, e-post <a href="mailto:rhs@smk.dep.no">rhs@smk.
 dep.no</a>.</p>
DTSTAMP:20260422T131221Z
DTSTART:20260417T064500Z
LOCATION:Stortinget
SEQUENCE:0
SUMMARY:Statsministeren innleiar til plenumsdebatt på Nordisk råds årleg
 e temasesjon
UID:f701b701-57ab-4d83-9e58-a8562c55235a
X-ALT-DESC;FMTTYPE=text/html:Statsminister Jonas Gahr Støre innleiar til p
 lenumsdebatt på Nordisk råds årlege temasesjon\, som i 2026 går føre 
 seg i Stortinget. Tema for innleiinga er korleis dei nordiske landa kan st
 yrkje felles motstandskraft og kriseberedskap.<p>Sjå fleire detaljar på
  <a href="https://www.norden.org/no/nordisk-rads-temasesjon-2026">nettsid
 a til Nordisk råd</a>.</p>\n<p>Pressekontakt er kommunikasjonsrådgivar R
 agnhild H. Simenstad\, telefon 91 71 74 59\, e-post <a href="mailto:rhs@sm
 k.dep.no">rhs@smk.dep.no</a>.</p>
END:VEVENT
BEGIN:VTIMEZONE
TZID:Europe/Oslo
X-LIC-LOCATION:Europe/Oslo
END:VTIMEZONE
END:VCALENDAR
