BEGIN:VCALENDAR
PRODID:-//github.com/ical-org/ical.net//NONSGML ical.net 5.2.1//EN
VERSION:2.0
BEGIN:VEVENT
DESCRIPTION:
DTSTAMP:20260424T165337Z
DTSTART:20260306T075000Z
LOCATION:Næringslivets Hus Middelthuns gate 27
SEQUENCE:0
SUMMARY:Statsråden holder innlegg under Abelias kåringen av Norges 50 fre
 mste tech-kvinner
UID:f01c6e24-2343-427c-a5cc-74800eadd358
END:VEVENT
BEGIN:VTIMEZONE
TZID:Europe/Oslo
X-LIC-LOCATION:Europe/Oslo
END:VTIMEZONE
END:VCALENDAR
