BEGIN:VCALENDAR
PRODID:-//github.com/ical-org/ical.net//NONSGML ical.net 5.2.1//EN
VERSION:2.0
BEGIN:VEVENT
DESCRIPTION:Tema for møte er blant annet fellesløsninger. 
DTEND:20250606T073000Z
DTSTAMP:20260422T171544Z
DTSTART:20250606T060000Z
LOCATION:Departementet
SEQUENCE:0
SUMMARY:Digitaliserings- og forvaltningsministeren møter Digdir\, Novari\,
  KS Digital og DIO
UID:97fb8937-2e1b-457b-9ef7-40f98448b2f1
X-ALT-DESC;FMTTYPE=text/html:Tema for møte er blant annet fellesløsninger
 . 
END:VEVENT
BEGIN:VTIMEZONE
TZID:Europe/Oslo
X-LIC-LOCATION:Europe/Oslo
END:VTIMEZONE
END:VCALENDAR
