BEGIN:VCALENDAR
PRODID:-//github.com/ical-org/ical.net//NONSGML ical.net 5.2.1//EN
VERSION:2.0
BEGIN:VEVENT
DESCRIPTION:President Volodymyr Zelenskyj kommer i dag til Norge. Han skal 
 møte statsminister Jonas Gahr Støre\, som er vert for besøket.<p>– Je
 g er glad for å kunne ta imot president Volodymyr Zelenskyj i Norge for f
 jerde gang. Ukraina er ikke bare den største mottakeren av norsk støtte\
 , det er også en viktig partner som bidrar til å styrke norsk sikkerhet.
  Erfaringene ukrainerne får ved fronten er viktig for å utvikle vårt eg
 et forsvar. Jeg ser fram til å diskutere hvordan vi kan styrke samarbeide
 t som vi har gjensidig nytte av\, sier statsminister Jonas Gahr Støre.</p
 >\n<p>Zelenskyj og Støre skal ha et bilateralt møte og deretter en arbei
 dsmiddag.</p>\n<ul style="list-style-type: link-list\;">\n<li data-nav="li
 nklist-link"><a href="https://www.regjeringen.no/no/aktuelt/ukrainas-presi
 dent-volodymyr-zelenskyj-besoker-norge/id3156196/">Se egen pressemelding f
 or flere detaljer</a></li>\n</ul>
DTSTAMP:20260421T173628Z
DTSTART:20260414T173000Z
LOCATION:Norge
SEQUENCE:0
SUMMARY:Ukrainas president Volodymyr Zelenskyj besøker Norge
UID:3ee7475c-513d-42a2-a37b-3ad5f4cc9cf8
X-ALT-DESC;FMTTYPE=text/html:President Volodymyr Zelenskyj kommer i dag til
  Norge. Han skal møte statsminister Jonas Gahr Støre\, som er vert for b
 esøket.<p>– Jeg er glad for å kunne ta imot president Volodymyr Zelens
 kyj i Norge for fjerde gang. Ukraina er ikke bare den største mottakeren 
 av norsk støtte\, det er også en viktig partner som bidrar til å styrke
  norsk sikkerhet. Erfaringene ukrainerne får ved fronten er viktig for å
  utvikle vårt eget forsvar. Jeg ser fram til å diskutere hvordan vi kan 
 styrke samarbeidet som vi har gjensidig nytte av\, sier statsminister Jona
 s Gahr Støre.</p>\n<p>Zelenskyj og Støre skal ha et bilateralt møte og 
 deretter en arbeidsmiddag.</p>\n<ul style="list-style-type: link-list\;">\
 n<li data-nav="linklist-link"><a href="https://www.regjeringen.no/no/aktue
 lt/ukrainas-president-volodymyr-zelenskyj-besoker-norge/id3156196/">Se ege
 n pressemelding for flere detaljer</a></li>\n</ul>
END:VEVENT
BEGIN:VTIMEZONE
TZID:Europe/Oslo
X-LIC-LOCATION:Europe/Oslo
END:VTIMEZONE
END:VCALENDAR
