BEGIN:VCALENDAR
PRODID:-//github.com/ical-org/ical.net//NONSGML ical.net 5.2.1//EN
VERSION:2.0
BEGIN:VEVENT
DESCRIPTION:<ul style="list-style-type: link-list\;">\n<li data-nav="linkli
 st-link"><a href="https://www.regjeringen.no/no/aktuelt/utviklingsminister
 en-til-new-york-og-washington-dc/id3154893/">Sjå eigen presseinformajson<
 /a></li>\n</ul>
DTEND;VALUE=DATE:20260413
DTSTAMP:20260423T220436Z
DTSTART;VALUE=DATE:20260413
LOCATION:New York\, USA
SEQUENCE:0
SUMMARY:Utviklingsministeren deltek på møte i FN sin befolkningskommisjon
UID:229cc10f-6b7d-4c95-94e9-1e6f6af4460f
X-ALT-DESC;FMTTYPE=text/html:<ul style="list-style-type: link-list\;">\n<li
  data-nav="linklist-link"><a href="https://www.regjeringen.no/no/aktuelt/u
 tviklingsministeren-til-new-york-og-washington-dc/id3154893/">Sjå eigen p
 resseinformajson</a></li>\n</ul>
END:VEVENT
BEGIN:VEVENT
DESCRIPTION:<ul style="list-style-type: link-list\;">\n<li data-nav="linkli
 st-link"><a href="https://www.regjeringen.no/no/aktuelt/utviklingsminister
 en-til-new-york-og-washington-dc/id3154893/">Sjå eigen presseinformajson<
 /a></li>\n</ul>
DTEND;VALUE=DATE:20260414
DTSTAMP:20260423T220436Z
DTSTART;VALUE=DATE:20260414
LOCATION:New York\, USA
SEQUENCE:0
SUMMARY:Utviklingsministeren deltek på møte i FN sin befolkningskommisjon
UID:8f0edeba-4c6a-462a-853b-5c2da09054e2
X-ALT-DESC;FMTTYPE=text/html:<ul style="list-style-type: link-list\;">\n<li
  data-nav="linklist-link"><a href="https://www.regjeringen.no/no/aktuelt/u
 tviklingsministeren-til-new-york-og-washington-dc/id3154893/">Sjå eigen p
 resseinformajson</a></li>\n</ul>
END:VEVENT
BEGIN:VTIMEZONE
TZID:Europe/Oslo
X-LIC-LOCATION:Europe/Oslo
END:VTIMEZONE
END:VCALENDAR
