BEGIN:VCALENDAR
PRODID:-//github.com/ical-org/ical.net//NONSGML ical.net 5.2.1//EN
VERSION:2.0
BEGIN:VEVENT
DESCRIPTION:<ul style="list-style-type: link-list\;">\n<li data-nav="linkli
 st-link"><a href="https://www.regjeringen.no/no/aktuelt/utviklingsminister
 en-til-new-york-og-washington-dc/id3154893/">Sjå eigen presseinformasjon<
 /a></li>\n</ul>
DTEND;VALUE=DATE:20260415
DTSTAMP:20260423T023507Z
DTSTART;VALUE=DATE:20260415
LOCATION:Washington\, D.C.\, USA
SEQUENCE:0
SUMMARY:Utviklingsministeren deltek på Verdsbankens vårmøte
UID:b5988eb4-a8a3-4f99-9520-79b3d741159f
X-ALT-DESC;FMTTYPE=text/html:<ul style="list-style-type: link-list\;">\n<li
  data-nav="linklist-link"><a href="https://www.regjeringen.no/no/aktuelt/u
 tviklingsministeren-til-new-york-og-washington-dc/id3154893/">Sjå eigen p
 resseinformasjon</a></li>\n</ul>
END:VEVENT
BEGIN:VEVENT
DESCRIPTION:<ul style="list-style-type: link-list\;">\n<li data-nav="linkli
 st-link"><a href="https://www.regjeringen.no/no/aktuelt/utviklingsminister
 en-til-new-york-og-washington-dc/id3154893/">Sjå eigen presseinformasjon<
 /a></li>\n</ul>
DTEND;VALUE=DATE:20260416
DTSTAMP:20260423T023507Z
DTSTART;VALUE=DATE:20260416
LOCATION:Washington\, D.C.\, USA
SEQUENCE:0
SUMMARY:Utviklingsministeren deltek på Verdsbankens vårmøte
UID:231345ed-3f77-4a86-be6c-2385fe5f1c3b
X-ALT-DESC;FMTTYPE=text/html:<ul style="list-style-type: link-list\;">\n<li
  data-nav="linklist-link"><a href="https://www.regjeringen.no/no/aktuelt/u
 tviklingsministeren-til-new-york-og-washington-dc/id3154893/">Sjå eigen p
 resseinformasjon</a></li>\n</ul>
END:VEVENT
BEGIN:VTIMEZONE
TZID:Europe/Oslo
X-LIC-LOCATION:Europe/Oslo
END:VTIMEZONE
END:VCALENDAR
