BEGIN:VCALENDAR
PRODID:-//github.com/ical-org/ical.net//NONSGML ical.net 5.2.1//EN
VERSION:2.0
BEGIN:VEVENT
DESCRIPTION:<ul style="list-style-type: link-list\;">\n<li><a href="https:/
 /www.regjeringen.no/no/aktuelt/apent-mote-med-statsministeren-og-utvikling
 sministeren-6.mars/id3150361/">Les meir</a></li>\n</ul>
DTSTAMP:20260422T154342Z
DTSTART:20260206T113000Z
LOCATION:Universitets Aula\, Oslo
SEQUENCE:0
SUMMARY:Utviklingsministeren inviterer\, saman med statsministeren\, til ei
 t opningseminar i høve «Prosjekt vendepunkt» om utviklingspolitikken fo
 r framtida
UID:97465194-f5d7-4b9e-a92a-28822ee787de
X-ALT-DESC;FMTTYPE=text/html:<ul style="list-style-type: link-list\;">\n<li
 ><a href="https://www.regjeringen.no/no/aktuelt/apent-mote-med-statsminist
 eren-og-utviklingsministeren-6.mars/id3150361/">Les meir</a></li>\n</ul>
END:VEVENT
BEGIN:VTIMEZONE
TZID:Europe/Oslo
X-LIC-LOCATION:Europe/Oslo
END:VTIMEZONE
END:VCALENDAR
