BEGIN:VCALENDAR
PRODID:-//github.com/ical-org/ical.net//NONSGML ical.net 5.2.1//EN
VERSION:2.0
BEGIN:VEVENT
DESCRIPTION:Statsråd Bjørnar Skjæran inviterer byggenæringen til møte 
 28. april. Der vil han redegjøre for regjeringens videre arbeid for å n
 å målet i Plan for Norge om igangsetting av 130.000 nye boliger innen 20
 30.<p>Presse er invitert til å delta på møtet. Påmelding til: <a href
 ="mailto:presse@kdd.dep.no">presse@kdd.dep.no</a>  </p>\n<ul style="list-
 style-type: link-list\;">\n<li data-nav="linklist-link"><a href="https://w
 ww.regjeringen.no/se/aigeguovdil/dep/kdd/preassadieahusat/2026/kommunal-og
 -distriktsministeren-inviterer-til-stormote-med-byggenaringen/">Les mer om
  stormøtet her</a></li>\n</ul>
DTEND:20260428T123000Z
DTSTAMP:20260423T085902Z
DTSTART:20260428T110000Z
LOCATION:Husbanken Øst Schweigaards gate 15 Oslo
SEQUENCE:0
SUMMARY:Kommunal- og distriktsministeren holder stormøte med byggenæringe
 n
UID:4d1d6755-b386-43a3-a29e-46b9d3775f67
X-ALT-DESC;FMTTYPE=text/html:Statsråd Bjørnar Skjæran inviterer byggenæ
 ringen til møte 28. april. Der vil han redegjøre for regjeringens videre
  arbeid for å nå målet i Plan for Norge om igangsetting av 130.000 nye 
 boliger innen 2030.<p>Presse er invitert til å delta på møtet. Påmeldi
 ng til: <a href="mailto:presse@kdd.dep.no">presse@kdd.dep.no</a>  </p>\n
 <ul style="list-style-type: link-list\;">\n<li data-nav="linklist-link"><a
  href="https://www.regjeringen.no/se/aigeguovdil/dep/kdd/preassadieahusat/
 2026/kommunal-og-distriktsministeren-inviterer-til-stormote-med-byggenarin
 gen/">Les mer om stormøtet her</a></li>\n</ul>
END:VEVENT
BEGIN:VTIMEZONE
TZID:Europe/Oslo
X-LIC-LOCATION:Europe/Oslo
END:VTIMEZONE
END:VCALENDAR
