BEGIN:VCALENDAR
PRODID:-//github.com/ical-org/ical.net//NONSGML ical.net 5.2.1//EN
VERSION:2.0
BEGIN:VEVENT
DESCRIPTION:
DTEND:20260424T083000Z
DTSTAMP:20260423T085903Z
DTSTART:20260424T080000Z
LOCATION:Oslo
SEQUENCE:0
SUMMARY:Helse- og omsorgsministeren og fiskeri- og havministeren møter Fly
 te
UID:627d9419-3347-4396-b0ed-1f242109e1f3
END:VEVENT
BEGIN:VTIMEZONE
TZID:Europe/Oslo
X-LIC-LOCATION:Europe/Oslo
END:VTIMEZONE
END:VCALENDAR
