BEGIN:VCALENDAR
PRODID:-//github.com/ical-org/ical.net//NONSGML ical.net 5.2.1//EN
VERSION:2.0
BEGIN:VEVENT
DESCRIPTION:<ul style="list-style-type: link-list\;">\n<li data-nav="linkli
 st-link"><a href="https://www.regjeringen.no/se/aigeguovdil/dep/ud/preassa
 dieahusat/2026/utviklingsministeren-besoker-beijing/">Sjå eigen presseinf
 ormasjon</a></li>\n</ul>
DTEND;VALUE=DATE:20260423
DTSTAMP:20260423T085753Z
DTSTART;VALUE=DATE:20260423
LOCATION:Kina
SEQUENCE:0
SUMMARY:Utviklingsministeren er på bilateralt besøk i Kina
UID:7ee33964-87f6-4339-b01e-6101376a23b4
X-ALT-DESC;FMTTYPE=text/html:<ul style="list-style-type: link-list\;">\n<li
  data-nav="linklist-link"><a href="https://www.regjeringen.no/se/aigeguovd
 il/dep/ud/preassadieahusat/2026/utviklingsministeren-besoker-beijing/">Sj
 å eigen presseinformasjon</a></li>\n</ul>
END:VEVENT
BEGIN:VTIMEZONE
TZID:Europe/Oslo
X-LIC-LOCATION:Europe/Oslo
END:VTIMEZONE
END:VCALENDAR
