BEGIN:VCALENDAR
PRODID:-//github.com/ical-org/ical.net//NONSGML ical.net 5.2.1//EN
VERSION:2.0
BEGIN:VEVENT
DESCRIPTION:
DTEND:20260423T094500Z
DTSTAMP:20260423T085753Z
DTSTART:20260423T084500Z
LOCATION:Teknisk museum\, Oslo
SEQUENCE:0
SUMMARY:Digitaliserings- og forvaltningsministeren besøker Teknisk Museum 
 i anledning "Spør en minister"
UID:a2a4e03c-4c5f-40f9-b1c7-b75b2e33ab3d
END:VEVENT
BEGIN:VTIMEZONE
TZID:Europe/Oslo
X-LIC-LOCATION:Europe/Oslo
END:VTIMEZONE
END:VCALENDAR
