BEGIN:VCALENDAR
PRODID:-//github.com/ical-org/ical.net//NONSGML ical.net 5.2.1//EN
VERSION:2.0
BEGIN:VEVENT
DESCRIPTION:Næringsministeren vil være til stedet på Oslo Børs i forbin
 delse med at Kongsberg Maritime skilles ut fra Kongsberg Gruppen og bli b
 ørsnotert som eget selskap. \n \n\n<p>Pressekontakt: Per Aubrey B. Tenden
 \, e-post: pabt@nfd.dep.no\, tlf. 900 91 062</p>\n<p><a href="https://komm
 unikasjon.ntb.no/pressemelding/18873913/presseinvitasjon-naeringsministere
 n-deltar-pa-borsnotering-av-kongsberg-maritime?publisherId=17849151&amp\;l
 ang=no">Les mer her:  </a> </p>
DTSTAMP:20260423T085902Z
DTSTART:20260423T070000Z
LOCATION:Oslo Børs 
SEQUENCE:0
SUMMARY:Næringsministeren deltar på børsnotering av Kongsberg Maritime
UID:5763aaad-191b-4b83-b184-c3416b18b3b6
X-ALT-DESC;FMTTYPE=text/html:Næringsministeren vil være til stedet på Os
 lo Børs i forbindelse med at Kongsberg Maritime skilles ut fra Kongsberg 
 Gruppen og bli børsnotert som eget selskap. \n \n\n<p>Pressekontakt: Per 
 Aubrey B. Tenden\, e-post: pabt@nfd.dep.no\, tlf. 900 91 062</p>\n<p><a hr
 ef="https://kommunikasjon.ntb.no/pressemelding/18873913/presseinvitasjon-n
 aeringsministeren-deltar-pa-borsnotering-av-kongsberg-maritime?publisherId
 =17849151&amp\;lang=no">Les mer her:  </a> </p>
END:VEVENT
BEGIN:VTIMEZONE
TZID:Europe/Oslo
X-LIC-LOCATION:Europe/Oslo
END:VTIMEZONE
END:VCALENDAR
